BEGIN:VCALENDAR
METHOD:PUBLISH
X-WR-TIMEZONE:America/Denver
PRODID:-//Hold My Ticket.//HMT Web App//EN
CALSCALE:GREGORIAN
METHOD:PUBLISH
X-WR-CALNAME:FUSION | 708
X-WR-CALDESC:Upcoming events at FUSION | 708
BEGIN:VTIMEZONE
TZID:America/Denver 
END:VTIMEZONE
BEGIN:VEVENT
SEQUENCE:2
TRANSP:OPAQUE
UID:b125f3a65a9911d14eb39868df2d2dbc
DTSTART:20260828T193000
DTSTAMP:20260420T020010Z
SUMMARY:Ron Crowder
DESCRIPTION:Featuring Chris Ishee, Dimi Disanti, John Bartlit, Colin Deuble, Alex Murzyn, and Teri Lynn Browning

Award-winning singer-songwriter and producer Ron Crowder brings his all-original Rock/Pop/Funk/Soul sound to his hometown of Albuquerque, backed by an all-star band of some of New Mexico's finest musicians. Crowder will be celebrating the release of his brand-new album, "Moving at the Speed of Life."
CREATED:20260420T020010Z
URL;VALUE=URI:http://holdmyticket.com/event/461859 

DTEND:20260828T213000
END:VEVENT
END:VCALENDAR