BEGIN:VCALENDAR
METHOD:PUBLISH
X-WR-TIMEZONE:America/Denver
PRODID:-//Hold My Ticket.//HMT Web App//EN
CALSCALE:GREGORIAN
METHOD:PUBLISH
X-WR-CALNAME:Buffalo Rose
X-WR-CALDESC:Upcoming events at Buffalo Rose
BEGIN:VTIMEZONE
TZID:America/Denver 
END:VTIMEZONE
BEGIN:VEVENT
SEQUENCE:2
TRANSP:OPAQUE
UID:60460e9b052e9cb9951fec25112c0faf
DTSTART:20260512T180000
DTSTAMP:20260415T012902Z
SUMMARY:Tequila Ocho on Washington
DESCRIPTION:Tequila on Washington is an unforgettable evening of uniquely delicious tequila and food pairings co-created by Maestro Tequileros from Tequila Ocho, one of Mexico's most celebrated artisan tequila producers, and Executive Chef Chris Zekos of Golden's iconic Buffalo Rose.
CREATED:20260415T012902Z
URL;VALUE=URI:http://holdmyticket.com/event/461870 

DTEND:20260512T210000
END:VEVENT
END:VCALENDAR