BEGIN:VCALENDAR
METHOD:PUBLISH
X-WR-TIMEZONE:America/Denver
PRODID:-//Hold My Ticket.//HMT Web App//EN
CALSCALE:GREGORIAN
METHOD:PUBLISH
X-WR-CALNAME:The Oriental Theater
X-WR-CALDESC:Upcoming events at The Oriental Theater
BEGIN:VTIMEZONE
TZID:America/Denver 
END:VTIMEZONE
BEGIN:VEVENT
SEQUENCE:2
TRANSP:OPAQUE
UID:dc0f28764930e85047b05edd83fa0c79
DTSTART:20260714T190000
DTSTAMP:20260422T080043Z
SUMMARY:The Word Alive 
DESCRIPTION:
CREATED:20260422T080043Z
URL;VALUE=URI:http://holdmyticket.com/event/461893 

DTEND:20260714T230000
END:VEVENT
END:VCALENDAR