BEGIN:VCALENDAR
METHOD:PUBLISH
X-WR-TIMEZONE:America/Denver
PRODID:-//Hold My Ticket.//HMT Web App//EN
CALSCALE:GREGORIAN
METHOD:PUBLISH
X-WR-CALNAME:Tumbleroot Brewery & Distillery
X-WR-CALDESC:Upcoming events at Tumbleroot Brewery & Distillery
BEGIN:VTIMEZONE
TZID:America/Denver 
END:VTIMEZONE
BEGIN:VEVENT
SEQUENCE:2
TRANSP:OPAQUE
UID:3ab537cf86795e6b9f4bcc9116224641
DTSTART:20260625T193000
DTSTAMP:20260421T100630Z
SUMMARY:Vincen García
DESCRIPTION:
CREATED:20260421T100630Z
URL;VALUE=URI:http://holdmyticket.com/event/461905 

DTEND:20260625T223000
END:VEVENT
END:VCALENDAR