BEGIN:VCALENDAR
METHOD:PUBLISH
X-WR-TIMEZONE:America/Denver
PRODID:-//Hold My Ticket.//HMT Web App//EN
CALSCALE:GREGORIAN
METHOD:PUBLISH
X-WR-CALNAME:The Mothership
X-WR-CALDESC:Upcoming events at The Mothership
BEGIN:VTIMEZONE
TZID:America/Denver 
END:VTIMEZONE
BEGIN:VEVENT
SEQUENCE:2
TRANSP:OPAQUE
UID:e27b19f041f1f2cc5529e983f58950bf
DTSTART:20260620T193000
DTSTAMP:20260421T120010Z
SUMMARY:Dirtwire & The Floozies
DESCRIPTION:
CREATED:20260421T120010Z
URL;VALUE=URI:http://holdmyticket.com/event/461938 

DTEND:20260620T220000
END:VEVENT
END:VCALENDAR