BEGIN:VCALENDAR
METHOD:PUBLISH
X-WR-TIMEZONE:America/Los_Angeles
PRODID:-//Hold My Ticket.//HMT Web App//EN
CALSCALE:GREGORIAN
METHOD:PUBLISH
X-WR-CALNAME:The Big Dipper
X-WR-CALDESC:Upcoming events at The Big Dipper
BEGIN:VTIMEZONE
TZID:America/Los_Angeles 
END:VTIMEZONE
BEGIN:VEVENT
SEQUENCE:2
TRANSP:OPAQUE
UID:39f09db97edbf2e686db72c6a837c182
DTSTART:20260628T193000
DTSTAMP:20260421T120010Z
SUMMARY:Squid Pisser
DESCRIPTION:
CREATED:20260421T120010Z
URL;VALUE=URI:http://holdmyticket.com/event/461942 

DTEND:20260628T223000
END:VEVENT
END:VCALENDAR