BEGIN:VCALENDAR
METHOD:PUBLISH
X-WR-TIMEZONE:America/Los_Angeles
PRODID:-//Hold My Ticket.//HMT Web App//EN
CALSCALE:GREGORIAN
METHOD:PUBLISH
X-WR-CALNAME:The Big Dipper
X-WR-CALDESC:Upcoming events at The Big Dipper
BEGIN:VTIMEZONE
TZID:America/Los_Angeles 
END:VTIMEZONE
BEGIN:VEVENT
SEQUENCE:2
TRANSP:OPAQUE
UID:964fbf4d103caafe5023e9b930e10ab9
DTSTART:20260501T193000
DTSTAMP:20260419T114116Z
SUMMARY:Vakker
DESCRIPTION:
CREATED:20260419T114116Z
URL;VALUE=URI:http://holdmyticket.com/event/461992 

DTEND:20260501T223000
END:VEVENT
END:VCALENDAR