BEGIN:VCALENDAR
METHOD:PUBLISH
X-WR-TIMEZONE:America/Denver
PRODID:-//Hold My Ticket.//HMT Web App//EN
CALSCALE:GREGORIAN
METHOD:PUBLISH
X-WR-CALNAME:The Oriental Theater
X-WR-CALDESC:Upcoming events at The Oriental Theater
BEGIN:VTIMEZONE
TZID:America/Denver 
END:VTIMEZONE
BEGIN:VEVENT
SEQUENCE:2
TRANSP:OPAQUE
UID:8e073130f51255f9bc2d3580433d84f0
DTSTART:20260524T180000
DTSTAMP:20260422T084950Z
SUMMARY:Tim-A-Thon! 
DESCRIPTION:
CREATED:20260422T084950Z
URL;VALUE=URI:http://holdmyticket.com/event/461993 

DTEND:20260524T210000
END:VEVENT
END:VCALENDAR