BEGIN:VCALENDAR
METHOD:PUBLISH
X-WR-TIMEZONE:Pacific/Honolulu
PRODID:-//Hold My Ticket.//HMT Web App//EN
CALSCALE:GREGORIAN
METHOD:PUBLISH
X-WR-CALNAME:-- See Details Inside
X-WR-CALDESC:Upcoming events at -- See Details Inside
BEGIN:VTIMEZONE
TZID:Pacific/Honolulu 
END:VTIMEZONE
BEGIN:VEVENT
SEQUENCE:2
TRANSP:OPAQUE
UID:64770303c1d0f180d6e9bfb535254d75
DTSTART:20270225T140000
DTSTAMP:20260419T135122Z
SUMMARY:Seeking Sponsors
DESCRIPTION:Sponsors Wanted
CREATED:20260419T135122Z
URL;VALUE=URI:http://holdmyticket.com/event/462007 

DTEND:20270225T170000
END:VEVENT
END:VCALENDAR