BEGIN:VCALENDAR
METHOD:PUBLISH
X-WR-TIMEZONE:Pacific/Honolulu
PRODID:-//Hold My Ticket.//HMT Web App//EN
CALSCALE:GREGORIAN
METHOD:PUBLISH
X-WR-CALNAME:-- See Details Inside
X-WR-CALDESC:Upcoming events at -- See Details Inside
BEGIN:VTIMEZONE
TZID:Pacific/Honolulu 
END:VTIMEZONE
BEGIN:VEVENT
SEQUENCE:2
TRANSP:OPAQUE
UID:3460d09a2375b4329667da6e8d0f5c93
DTSTART:20270725T140000
DTSTAMP:20260419T135123Z
SUMMARY:Seeking Sponsors
DESCRIPTION:Sponsors Wanted
CREATED:20260419T135123Z
URL;VALUE=URI:http://holdmyticket.com/event/462012 

DTEND:20270725T170000
END:VEVENT
END:VCALENDAR