BEGIN:VCALENDAR
METHOD:PUBLISH
X-WR-TIMEZONE:Pacific/Honolulu
PRODID:-//Hold My Ticket.//HMT Web App//EN
CALSCALE:GREGORIAN
METHOD:PUBLISH
X-WR-CALNAME:-- See Details Inside
X-WR-CALDESC:Upcoming events at -- See Details Inside
BEGIN:VTIMEZONE
TZID:Pacific/Honolulu 
END:VTIMEZONE
BEGIN:VEVENT
SEQUENCE:2
TRANSP:OPAQUE
UID:bc28fa64035f0ee7369640634958912e
DTSTART:20270825T140000
DTSTAMP:20260419T135123Z
SUMMARY:Seeking Sponsors
DESCRIPTION:Sponsors Wanted
CREATED:20260419T135123Z
URL;VALUE=URI:http://holdmyticket.com/event/462013 

DTEND:20270825T170000
END:VEVENT
END:VCALENDAR