BEGIN:VCALENDAR
METHOD:PUBLISH
X-WR-TIMEZONE:Pacific/Honolulu
PRODID:-//Hold My Ticket.//HMT Web App//EN
CALSCALE:GREGORIAN
METHOD:PUBLISH
X-WR-CALNAME:-- See Details Inside
X-WR-CALDESC:Upcoming events at -- See Details Inside
BEGIN:VTIMEZONE
TZID:Pacific/Honolulu 
END:VTIMEZONE
BEGIN:VEVENT
SEQUENCE:2
TRANSP:OPAQUE
UID:522991e3af2151d19e262e2e9c1ca5a7
DTSTART:20271025T140000
DTSTAMP:20260419T135123Z
SUMMARY:Seeking Sponsors
DESCRIPTION:Sponsors Wanted
CREATED:20260419T135123Z
URL;VALUE=URI:http://holdmyticket.com/event/462015 

DTEND:20271025T170000
END:VEVENT
END:VCALENDAR