BEGIN:VCALENDAR
METHOD:PUBLISH
X-WR-TIMEZONE:Pacific/Honolulu
PRODID:-//Hold My Ticket.//HMT Web App//EN
CALSCALE:GREGORIAN
METHOD:PUBLISH
X-WR-CALNAME:-- See Details Inside
X-WR-CALDESC:Upcoming events at -- See Details Inside
BEGIN:VTIMEZONE
TZID:Pacific/Honolulu 
END:VTIMEZONE
BEGIN:VEVENT
SEQUENCE:2
TRANSP:OPAQUE
UID:1a37d1a520aa165ef25d7d79e24bfa69
DTSTART:20280125T140000
DTSTAMP:20260419T135124Z
SUMMARY:Seeking Sponsors
DESCRIPTION:Sponsors Wanted
CREATED:20260419T135124Z
URL;VALUE=URI:http://holdmyticket.com/event/462018 

DTEND:20280125T170000
END:VEVENT
END:VCALENDAR