BEGIN:VCALENDAR
METHOD:PUBLISH
X-WR-TIMEZONE:America/Denver
PRODID:-//Hold My Ticket.//HMT Web App//EN
CALSCALE:GREGORIAN
METHOD:PUBLISH
X-WR-CALNAME:Buffalo Rose
X-WR-CALDESC:Upcoming events at Buffalo Rose
BEGIN:VTIMEZONE
TZID:America/Denver 
END:VTIMEZONE
BEGIN:VEVENT
SEQUENCE:2
TRANSP:OPAQUE
UID:158517f553707bb1a2c127575929e925
DTSTART:20260529T200000
DTSTAMP:20260421T182320Z
SUMMARY:Rush Archives
DESCRIPTION:
CREATED:20260421T182320Z
URL;VALUE=URI:http://holdmyticket.com/event/462041 

DTEND:20260529T230000
END:VEVENT
END:VCALENDAR