BEGIN:VCALENDAR
METHOD:PUBLISH
X-WR-TIMEZONE:America/Chicago
PRODID:-//Hold My Ticket.//HMT Web App//EN
CALSCALE:GREGORIAN
METHOD:PUBLISH
X-WR-CALNAME:Dusty's
X-WR-CALDESC:Upcoming events at Dusty's
BEGIN:VTIMEZONE
TZID:America/Chicago 
END:VTIMEZONE
BEGIN:VEVENT
SEQUENCE:2
TRANSP:OPAQUE
UID:1e91fff521c97ca31beb06cbf3fddb8d
DTSTART:20260613T210000
DTSTAMP:20260420T150440Z
SUMMARY:Dwarves
DESCRIPTION:
CREATED:20260420T150440Z
URL;VALUE=URI:http://holdmyticket.com/event/462088 

DTEND:20260613T233000
END:VEVENT
END:VCALENDAR