BEGIN:VCALENDAR
METHOD:PUBLISH
X-WR-TIMEZONE:America/Denver
PRODID:-//Hold My Ticket.//HMT Web App//EN
CALSCALE:GREGORIAN
METHOD:PUBLISH
X-WR-CALNAME:Twilight Cafe and Bar
X-WR-CALDESC:Upcoming events at Twilight Cafe and Bar
BEGIN:VTIMEZONE
TZID:America/Denver 
END:VTIMEZONE
BEGIN:VEVENT
SEQUENCE:2
TRANSP:OPAQUE
UID:d8c10d7733356b20340ea415ecc36764
DTSTART:20260504T200000
DTSTAMP:20260420T152218Z
SUMMARY:Dream Theory w/ haha Laughing, Gwyniver
DESCRIPTION:
CREATED:20260420T152218Z
URL;VALUE=URI:http://holdmyticket.com/event/462091 

DTEND:20260504T234500
END:VEVENT
END:VCALENDAR