BEGIN:VCALENDAR
METHOD:PUBLISH
X-WR-TIMEZONE:America/Denver
PRODID:-//Hold My Ticket.//HMT Web App//EN
CALSCALE:GREGORIAN
METHOD:PUBLISH
X-WR-CALNAME:HQ
X-WR-CALDESC:Upcoming events at HQ
BEGIN:VTIMEZONE
TZID:America/Denver 
END:VTIMEZONE
BEGIN:VEVENT
SEQUENCE:2
TRANSP:OPAQUE
UID:808f110a28a3eff5ec5c058684f10d20
DTSTART:20261010T200000
DTSTAMP:20260424T080041Z
SUMMARY:Opal In Sky
DESCRIPTION:
CREATED:20260424T080041Z
URL;VALUE=URI:http://holdmyticket.com/event/462094 

DTEND:20261010T230000
END:VEVENT
END:VCALENDAR