BEGIN:VCALENDAR
METHOD:PUBLISH
X-WR-TIMEZONE:America/Denver
PRODID:-//Hold My Ticket.//HMT Web App//EN
CALSCALE:GREGORIAN
METHOD:PUBLISH
X-WR-CALNAME:Twilight Cafe and Bar
X-WR-CALDESC:Upcoming events at Twilight Cafe and Bar
BEGIN:VTIMEZONE
TZID:America/Denver 
END:VTIMEZONE
BEGIN:VEVENT
SEQUENCE:2
TRANSP:OPAQUE
UID:24af804d9453e155ef3b87e09a6c2a6f
DTSTART:20260515T200000
DTSTAMP:20260420T160710Z
SUMMARY:Pretty Deadly (CD Release) w/ Never Better, GFL, Chris Hahn
DESCRIPTION:
CREATED:20260420T160710Z
URL;VALUE=URI:http://holdmyticket.com/event/462095 

DTEND:20260515T234500
END:VEVENT
END:VCALENDAR