BEGIN:VCALENDAR
METHOD:PUBLISH
X-WR-TIMEZONE:America/Denver
PRODID:-//Hold My Ticket.//HMT Web App//EN
CALSCALE:GREGORIAN
METHOD:PUBLISH
X-WR-CALNAME:Twilight Cafe and Bar
X-WR-CALDESC:Upcoming events at Twilight Cafe and Bar
BEGIN:VTIMEZONE
TZID:America/Denver 
END:VTIMEZONE
BEGIN:VEVENT
SEQUENCE:2
TRANSP:OPAQUE
UID:b2b3595721b70a82c7dbbbf9fb194042
DTSTART:20260524T200000
DTSTAMP:20260420T212756Z
SUMMARY:Star Chamber w/ Pink Steam (SEA), Brites
DESCRIPTION:
CREATED:20260420T212756Z
URL;VALUE=URI:http://holdmyticket.com/event/462103 

DTEND:20260524T234500
END:VEVENT
END:VCALENDAR