BEGIN:VCALENDAR
METHOD:PUBLISH
X-WR-TIMEZONE:America/Denver
PRODID:-//Hold My Ticket.//HMT Web App//EN
CALSCALE:GREGORIAN
METHOD:PUBLISH
X-WR-CALNAME:Twilight Cafe and Bar
X-WR-CALDESC:Upcoming events at Twilight Cafe and Bar
BEGIN:VTIMEZONE
TZID:America/Denver 
END:VTIMEZONE
BEGIN:VEVENT
SEQUENCE:2
TRANSP:OPAQUE
UID:193f14f9dee7c5949e301492f64af750
DTSTART:20260607T200000
DTSTAMP:20260420T215511Z
SUMMARY:Diesel Boy w/ Evelyn's Casket & Guest
DESCRIPTION:
CREATED:20260420T215511Z
URL;VALUE=URI:http://holdmyticket.com/event/462104 

DTEND:20260607T234500
END:VEVENT
END:VCALENDAR