BEGIN:VCALENDAR
METHOD:PUBLISH
X-WR-TIMEZONE:America/Denver
PRODID:-//Hold My Ticket.//HMT Web App//EN
CALSCALE:GREGORIAN
METHOD:PUBLISH
X-WR-CALNAME:The Box Performance Space
X-WR-CALDESC:Upcoming events at The Box Performance Space
BEGIN:VTIMEZONE
TZID:America/Denver 
END:VTIMEZONE
BEGIN:VEVENT
SEQUENCE:2
TRANSP:OPAQUE
UID:1091f8fc0aa773994a933be54466b444
DTSTART:20260515T180000
DTSTAMP:20260421T103715Z
SUMMARY:Annie Kids
DESCRIPTION:
CREATED:20260421T103715Z
URL;VALUE=URI:http://holdmyticket.com/event/462106 

DTEND:20260515T190000
END:VEVENT
END:VCALENDAR