BEGIN:VCALENDAR
METHOD:PUBLISH
X-WR-TIMEZONE:America/Denver
PRODID:-//Hold My Ticket.//HMT Web App//EN
CALSCALE:GREGORIAN
METHOD:PUBLISH
X-WR-CALNAME:The Box Performance Space
X-WR-CALDESC:Upcoming events at The Box Performance Space
BEGIN:VTIMEZONE
TZID:America/Denver 
END:VTIMEZONE
BEGIN:VEVENT
SEQUENCE:2
TRANSP:OPAQUE
UID:aa0f6c167c44ad59e5cf7192ee8984ed
DTSTART:20260516T180000
DTSTAMP:20260421T103812Z
SUMMARY:Annie Kids
DESCRIPTION:
CREATED:20260421T103812Z
URL;VALUE=URI:http://holdmyticket.com/event/462107 

DTEND:20260516T190000
END:VEVENT
END:VCALENDAR