BEGIN:VCALENDAR
METHOD:PUBLISH
X-WR-TIMEZONE:America/Denver
PRODID:-//Hold My Ticket.//HMT Web App//EN
CALSCALE:GREGORIAN
METHOD:PUBLISH
X-WR-CALNAME:The Box Performance Space
X-WR-CALDESC:Upcoming events at The Box Performance Space
BEGIN:VTIMEZONE
TZID:America/Denver 
END:VTIMEZONE
BEGIN:VEVENT
SEQUENCE:2
TRANSP:OPAQUE
UID:d55f7726eb5e0f45cdf8e341b6abcda3
DTSTART:20260517T140000
DTSTAMP:20260421T103926Z
SUMMARY:Annie Kids
DESCRIPTION:
CREATED:20260421T103926Z
URL;VALUE=URI:http://holdmyticket.com/event/462108 

DTEND:20260517T150000
END:VEVENT
END:VCALENDAR