BEGIN:VCALENDAR
METHOD:PUBLISH
X-WR-TIMEZONE:Pacific/Honolulu
PRODID:-//Hold My Ticket.//HMT Web App//EN
CALSCALE:GREGORIAN
METHOD:PUBLISH
X-WR-CALNAME:-- See Details Inside
X-WR-CALDESC:Upcoming events at -- See Details Inside
BEGIN:VTIMEZONE
TZID:Pacific/Honolulu 
END:VTIMEZONE
BEGIN:VEVENT
SEQUENCE:2
TRANSP:OPAQUE
UID:825a2310b76a59251044c82c82b4b136
DTSTART:20260425T170000
DTSTAMP:20260421T221804Z
SUMMARY:SHIRTS FOR SALE -- The Dickies in Hawaii -- Custom mail-order offer
DESCRIPTION:
CREATED:20260421T221804Z
URL;VALUE=URI:http://holdmyticket.com/event/462147 

DTEND:20260425T191500
END:VEVENT
END:VCALENDAR