BEGIN:VCALENDAR
METHOD:PUBLISH
X-WR-TIMEZONE:America/Chicago
PRODID:-//Hold My Ticket.//HMT Web App//EN
CALSCALE:GREGORIAN
METHOD:PUBLISH
X-WR-CALNAME:Whiskey River Country
X-WR-CALDESC:Upcoming events at Whiskey River Country
BEGIN:VTIMEZONE
TZID:America/Chicago 
END:VTIMEZONE
BEGIN:VEVENT
SEQUENCE:2
TRANSP:OPAQUE
UID:c1da11c8338308e0fdd63ca49bd73403
DTSTART:20260428T210000
DTSTAMP:20260422T084525Z
SUMMARY:Karaoke at Whiskey River Country
DESCRIPTION:Be the star on the Whiskey River Stage on Tuesday nights at 8pm. If you can sing, great. If you can't sing but have a great time doing it... that's even better! No judgement, just FUN!
CREATED:20260422T084525Z
URL;VALUE=URI:http://holdmyticket.com/event/462150 

DTEND:20260429T020000
END:VEVENT
END:VCALENDAR