BEGIN:VCALENDAR
METHOD:PUBLISH
X-WR-TIMEZONE:America/Denver
PRODID:-//Hold My Ticket.//HMT Web App//EN
CALSCALE:GREGORIAN
METHOD:PUBLISH
X-WR-CALNAME:Launchpad
X-WR-CALDESC:Upcoming events at Launchpad
BEGIN:VTIMEZONE
TZID:America/Denver 
END:VTIMEZONE
BEGIN:VEVENT
SEQUENCE:2
TRANSP:OPAQUE
UID:e0f653f83e8ca40451a53d473b7c6bfd
DTSTART:20260522T200000
DTSTAMP:20260423T130200Z
SUMMARY:Nosotros * Vibestrong * Reviva * DJ CQ the Drummer
DESCRIPTION:
CREATED:20260423T130200Z
URL;VALUE=URI:http://holdmyticket.com/event/462166 

DTEND:20260522T230000
END:VEVENT
END:VCALENDAR