BEGIN:VCALENDAR
METHOD:PUBLISH
X-WR-TIMEZONE:America/Denver
PRODID:-//Hold My Ticket.//HMT Web App//EN
CALSCALE:GREGORIAN
METHOD:PUBLISH
X-WR-CALNAME:Twilight Cafe and Bar
X-WR-CALDESC:Upcoming events at Twilight Cafe and Bar
BEGIN:VTIMEZONE
TZID:America/Denver 
END:VTIMEZONE
BEGIN:VEVENT
SEQUENCE:2
TRANSP:OPAQUE
UID:5865df3ac449102bc651798f5b4e8746
DTSTART:20260629T200000
DTSTAMP:20260422T165501Z
SUMMARY:Squid Pisser w/ Keddies Resort & Guest
DESCRIPTION:
CREATED:20260422T165501Z
URL;VALUE=URI:http://holdmyticket.com/event/462171 

DTEND:20260629T234500
END:VEVENT
END:VCALENDAR