BEGIN:VCALENDAR
METHOD:PUBLISH
X-WR-TIMEZONE:America/Denver
PRODID:-//Hold My Ticket.//HMT Web App//EN
CALSCALE:GREGORIAN
METHOD:PUBLISH
X-WR-CALNAME:Black Sky Brewery
X-WR-CALDESC:Upcoming events at Black Sky Brewery
BEGIN:VTIMEZONE
TZID:America/Denver 
END:VTIMEZONE
BEGIN:VEVENT
SEQUENCE:2
TRANSP:OPAQUE
UID:9881f829def0c8caa27817f8e0764449
DTSTART:20260618T193000
DTSTAMP:20260424T205500Z
SUMMARY:Brat
DESCRIPTION:
CREATED:20260424T205500Z
URL;VALUE=URI:http://holdmyticket.com/event/462177 

DTEND:20260618T220000
END:VEVENT
END:VCALENDAR