BEGIN:VCALENDAR
METHOD:PUBLISH
X-WR-TIMEZONE:America/Denver
PRODID:-//Hold My Ticket.//HMT Web App//EN
CALSCALE:GREGORIAN
METHOD:PUBLISH
X-WR-CALNAME:Twilight Cafe and Bar
X-WR-CALDESC:Upcoming events at Twilight Cafe and Bar
BEGIN:VTIMEZONE
TZID:America/Denver 
END:VTIMEZONE
BEGIN:VEVENT
SEQUENCE:2
TRANSP:OPAQUE
UID:280294797337250d6a2334dfd939f29a
DTSTART:20260621T200000
DTSTAMP:20260422T220734Z
SUMMARY:LANDROID w/ Batnap!, Josh Gross (Thunderchud)
DESCRIPTION:
CREATED:20260422T220734Z
URL;VALUE=URI:http://holdmyticket.com/event/462180 

DTEND:20260621T234500
END:VEVENT
END:VCALENDAR