BEGIN:VCALENDAR
METHOD:PUBLISH
X-WR-TIMEZONE:America/Denver
PRODID:-//Hold My Ticket.//HMT Web App//EN
CALSCALE:GREGORIAN
METHOD:PUBLISH
X-WR-CALNAME:Twilight Cafe and Bar
X-WR-CALDESC:Upcoming events at Twilight Cafe and Bar
BEGIN:VTIMEZONE
TZID:America/Denver 
END:VTIMEZONE
BEGIN:VEVENT
SEQUENCE:2
TRANSP:OPAQUE
UID:1311fed2f8fcf1bdc6a5c83af2b9cd0d
DTSTART:20260924T200000
DTSTAMP:20260422T223708Z
SUMMARY:Total Chaos w/ Sidewalk Slam, Hideous Monster & Guest
DESCRIPTION:
CREATED:20260422T223708Z
URL;VALUE=URI:http://holdmyticket.com/event/462181 

DTEND:20260924T234500
END:VEVENT
END:VCALENDAR