BEGIN:VCALENDAR
METHOD:PUBLISH
X-WR-TIMEZONE:America/Los_Angeles
PRODID:-//Hold My Ticket.//HMT Web App//EN
CALSCALE:GREGORIAN
METHOD:PUBLISH
X-WR-CALNAME:The Big Dipper
X-WR-CALDESC:Upcoming events at The Big Dipper
BEGIN:VTIMEZONE
TZID:America/Los_Angeles 
END:VTIMEZONE
BEGIN:VEVENT
SEQUENCE:2
TRANSP:OPAQUE
UID:8f4e1e7cc6901c8a8ddbafbfbe0ad2f9
DTSTART:20260804T193000
DTSTAMP:20260423T011659Z
SUMMARY:Balmora
DESCRIPTION:
CREATED:20260423T011659Z
URL;VALUE=URI:http://holdmyticket.com/event/462184 

DTEND:20260804T221500
END:VEVENT
END:VCALENDAR