BEGIN:VCALENDAR
METHOD:PUBLISH
X-WR-TIMEZONE:America/New_York
PRODID:-//Hold My Ticket.//HMT Web App//EN
CALSCALE:GREGORIAN
METHOD:PUBLISH
X-WR-CALNAME:Terra Fermata
X-WR-CALDESC:Upcoming events at Terra Fermata
BEGIN:VTIMEZONE
TZID:America/New_York 
END:VTIMEZONE
BEGIN:VEVENT
SEQUENCE:2
TRANSP:OPAQUE
UID:8ef1bf4f77ff47f8cc258cd22190876b
DTSTART:20260515T190000
DTSTAMP:20260423T133436Z
SUMMARY:MORE BETTER BAND with openers Mangruve, Prato
DESCRIPTION:A proper night of killer live jamz is on deck as More Better Band makes their way to Terra Fermata, bringing their signature blend of ska, rock, and feel-good covers that keep the crowd locked in from the first note to the last.

Fresh off their win at the Sugarshack Downtown Battle of the Bands, and previously earning a spot as finalists in Rock The Stages Battle of the Bands, this South Florida outfit is carving out a name the right way--on stage, in front of real crowds, night after night.

They've built a reputation for turning any room into a full-on session--tight grooves, familiar tunes with their own twist, and a sound that just sits right under the palms.
Getting the party started are some of our local faves:
🌴 Mangruve
🌴 Prato
Good people, cold drinks, and live music the way it's meant to be.
CREATED:20260423T133436Z
URL;VALUE=URI:http://holdmyticket.com/event/462193 

DTEND:20260515T220000
END:VEVENT
END:VCALENDAR