BEGIN:VCALENDAR
METHOD:PUBLISH
X-WR-TIMEZONE:America/New_York
PRODID:-//Hold My Ticket.//HMT Web App//EN
CALSCALE:GREGORIAN
METHOD:PUBLISH
X-WR-CALNAME:Terra Fermata
X-WR-CALDESC:Upcoming events at Terra Fermata
BEGIN:VTIMEZONE
TZID:America/New_York 
END:VTIMEZONE
BEGIN:VEVENT
SEQUENCE:2
TRANSP:OPAQUE
UID:fbcb1b14117a79fa99fb532e5baf03eb
DTSTART:20260529T190000
DTSTAMP:20260423T131620Z
SUMMARY:TELL ME LIES - Fleetwood Mac Tribute
DESCRIPTION:Advance tickets $28.41 total. Tell Me Lies showcases the timeless hits of Fleetwood Mac, a band renowned for their exceptional song writing and energetic live performances. The accomplished members of Tell Me Lies have been creating music together in various styles and combinations for many years. It was only natural for them to unite and honor the unmatched legacy of Fleetwood Mac. With an unwavering commitment to authenticity and a deep respect for their craft, Tell Me Lies meticulously recreates the beloved sounds and visuals of one of the world's most adored best-selling bands.
CREATED:20260423T131620Z
URL;VALUE=URI:http://holdmyticket.com/event/462207 

DTEND:20260529T220000
END:VEVENT
END:VCALENDAR