BEGIN:VCALENDAR
METHOD:PUBLISH
X-WR-TIMEZONE:America/New_York
PRODID:-//Hold My Ticket.//HMT Web App//EN
CALSCALE:GREGORIAN
METHOD:PUBLISH
X-WR-CALNAME:Terra Fermata
X-WR-CALDESC:Upcoming events at Terra Fermata
BEGIN:VTIMEZONE
TZID:America/New_York 
END:VTIMEZONE
BEGIN:VEVENT
SEQUENCE:2
TRANSP:OPAQUE
UID:748aa4c7a339b26da02cb092c24a9af7
DTSTART:20260516T190000
DTSTAMP:20260423T132249Z
SUMMARY:STONYFOOLS with opener ROOTS SHAKEDOWN 
DESCRIPTION:Tickets TBA
CREATED:20260423T132249Z
URL;VALUE=URI:http://holdmyticket.com/event/462209 

DTEND:20260516T220000
END:VEVENT
END:VCALENDAR