BEGIN:VCALENDAR
METHOD:PUBLISH
X-WR-TIMEZONE:America/New_York
PRODID:-//Hold My Ticket.//HMT Web App//EN
CALSCALE:GREGORIAN
METHOD:PUBLISH
X-WR-CALNAME:Akwesasne Mohawk Casino Resort
X-WR-CALDESC:Upcoming events at Akwesasne Mohawk Casino Resort
BEGIN:VTIMEZONE
TZID:America/New_York 
END:VTIMEZONE
BEGIN:VEVENT
SEQUENCE:2
TRANSP:OPAQUE
UID:97f1a69635ecef752a2c6a4103349e4c
DTSTART:20260717T200000
DTSTAMP:20260424T091457Z
SUMMARY:Epic Eagles - The Definitive Eagles Tribute
DESCRIPTION:
CREATED:20260424T091457Z
URL;VALUE=URI:http://holdmyticket.com/event/462211 

DTEND:20260717T213000
END:VEVENT
END:VCALENDAR