BEGIN:VCALENDAR
METHOD:PUBLISH
X-WR-TIMEZONE:America/New_York
PRODID:-//Hold My Ticket.//HMT Web App//EN
CALSCALE:GREGORIAN
METHOD:PUBLISH
X-WR-CALNAME:Akwesasne Mohawk Casino Resort
X-WR-CALDESC:Upcoming events at Akwesasne Mohawk Casino Resort
BEGIN:VTIMEZONE
TZID:America/New_York 
END:VTIMEZONE
BEGIN:VEVENT
SEQUENCE:2
TRANSP:OPAQUE
UID:f8ce82daf58c9557b865897aee2fe450
DTSTART:20260821T200000
DTSTAMP:20260424T091530Z
SUMMARY:REO Survivor 
DESCRIPTION:
CREATED:20260424T091530Z
URL;VALUE=URI:http://holdmyticket.com/event/462214 

DTEND:20260821T213000
END:VEVENT
END:VCALENDAR