BEGIN:VCALENDAR
METHOD:PUBLISH
X-WR-TIMEZONE:America/Denver
PRODID:-//Hold My Ticket.//HMT Web App//EN
CALSCALE:GREGORIAN
METHOD:PUBLISH
X-WR-CALNAME:Santa Fe Plaza
X-WR-CALDESC:Upcoming events at Santa Fe Plaza
BEGIN:VTIMEZONE
TZID:America/Denver 
END:VTIMEZONE
BEGIN:VEVENT
SEQUENCE:2
TRANSP:OPAQUE
UID:866a632d2a7a82aad8da686622ce5574
DTSTART:20260702T180000
DTSTAMP:20260423T154040Z
SUMMARY:Nosotros
DESCRIPTION:
CREATED:20260423T154040Z
URL;VALUE=URI:http://holdmyticket.com/event/462217 

DTEND:20260702T220000
END:VEVENT
END:VCALENDAR