BEGIN:VCALENDAR
METHOD:PUBLISH
X-WR-TIMEZONE:America/New_York
PRODID:-//Hold My Ticket.//HMT Web App//EN
CALSCALE:GREGORIAN
METHOD:PUBLISH
X-WR-CALNAME:Terra Fermata
X-WR-CALDESC:Upcoming events at Terra Fermata
BEGIN:VTIMEZONE
TZID:America/New_York 
END:VTIMEZONE
BEGIN:VEVENT
SEQUENCE:2
TRANSP:OPAQUE
UID:18825d5104b66898c3b74efee03298de
DTSTART:20260501T190000
DTSTAMP:20260423T154614Z
SUMMARY:ONE-EYED WILLIE
DESCRIPTION:Advance tickets $8 + $2.20 s/c. $15 at the door.
CREATED:20260423T154614Z
URL;VALUE=URI:http://holdmyticket.com/event/462218 

DTEND:20260501T220000
END:VEVENT
END:VCALENDAR