BEGIN:VCALENDAR
METHOD:PUBLISH
X-WR-TIMEZONE:America/Los_Angeles
PRODID:-//Hold My Ticket.//HMT Web App//EN
CALSCALE:GREGORIAN
METHOD:PUBLISH
X-WR-CALNAME:Dante's
X-WR-CALDESC:Upcoming events at Dante's
BEGIN:VTIMEZONE
TZID:America/Los_Angeles 
END:VTIMEZONE
BEGIN:VEVENT
SEQUENCE:2
TRANSP:OPAQUE
UID:f931e682f29d5802ac0d73b26895399e
DTSTART:20260523T203000
DTSTAMP:20260423T182509Z
SUMMARY:TOMMY GUERRERO
DESCRIPTION:21+ / 8PM DOORS
CREATED:20260423T182509Z
URL;VALUE=URI:http://holdmyticket.com/event/462225 

DTEND:20260523T233000
END:VEVENT
END:VCALENDAR