BEGIN:VCALENDAR
METHOD:PUBLISH
X-WR-TIMEZONE:America/Chicago
PRODID:-//Hold My Ticket.//HMT Web App//EN
CALSCALE:GREGORIAN
METHOD:PUBLISH
X-WR-CALNAME:Whiskey River Country
X-WR-CALDESC:Upcoming events at Whiskey River Country
BEGIN:VTIMEZONE
TZID:America/Chicago 
END:VTIMEZONE
BEGIN:VEVENT
SEQUENCE:2
TRANSP:OPAQUE
UID:d76c5d935160db5299d50b019823e03e
DTSTART:20260429T190000
DTSTAMP:20260424T074343Z
SUMMARY:Service Industry Night at The River
DESCRIPTION:Specials and discounts for our friends in the service industry, waitstaff, kitchen workers, bartenders, anyone working in the service industry!
CREATED:20260424T074343Z
URL;VALUE=URI:http://holdmyticket.com/event/462236 

DTEND:20260430T020000
END:VEVENT
END:VCALENDAR