BEGIN:VCALENDAR
METHOD:PUBLISH
X-WR-TIMEZONE:America/Denver
PRODID:-//Hold My Ticket.//HMT Web App//EN
CALSCALE:GREGORIAN
METHOD:PUBLISH
X-WR-CALNAME:Santa Fe Plaza
X-WR-CALDESC:Upcoming events at Santa Fe Plaza
BEGIN:VTIMEZONE
TZID:America/Denver 
END:VTIMEZONE
BEGIN:VEVENT
SEQUENCE:2
TRANSP:OPAQUE
UID:7bd0a0738dacf539783ac97058de0c7e
DTSTART:20260707T190000
DTSTAMP:20260424T144441Z
SUMMARY:Baile Nuevomexicano
DESCRIPTION:
CREATED:20260424T144441Z
URL;VALUE=URI:http://holdmyticket.com/event/462256 

DTEND:20260707T220000
END:VEVENT
END:VCALENDAR