BEGIN:VCALENDAR
METHOD:PUBLISH
X-WR-TIMEZONE:America/Denver
PRODID:-//Hold My Ticket.//HMT Web App//EN
CALSCALE:GREGORIAN
METHOD:PUBLISH
X-WR-CALNAME:Twilight Cafe and Bar
X-WR-CALDESC:Upcoming events at Twilight Cafe and Bar
BEGIN:VTIMEZONE
TZID:America/Denver 
END:VTIMEZONE
BEGIN:VEVENT
SEQUENCE:2
TRANSP:OPAQUE
UID:81870b6139b21ab2b2219a33f38e4019
DTSTART:20260717T203000
DTSTAMP:20260424T162936Z
SUMMARY:Bite Me Bambi w/ Warsaw Poland Brothers, The Cascadians
DESCRIPTION:
CREATED:20260424T162936Z
URL;VALUE=URI:http://holdmyticket.com/event/462264 

DTEND:20260717T234500
END:VEVENT
END:VCALENDAR