BEGIN:VCALENDAR
METHOD:PUBLISH
X-WR-TIMEZONE:America/Denver
PRODID:-//Hold My Ticket.//HMT Web App//EN
CALSCALE:GREGORIAN
METHOD:PUBLISH
X-WR-CALNAME:The Federal Theatre
X-WR-CALDESC:Upcoming events at The Federal Theatre
BEGIN:VTIMEZONE
TZID:America/Denver 
END:VTIMEZONE
BEGIN:VEVENT
SEQUENCE:2
TRANSP:OPAQUE
UID:3a102ca0e6edbb6566c2b48651f32d0b
DTSTART:20260419T143000
DTSTAMP:20260320T131602Z
SUMMARY:Musical Life Denver: Spring Showcase
DESCRIPTION:
CREATED:20260320T131602Z
URL;VALUE=URI:http://holdmyticket.com/event/460856 

DTEND:20260419T200000
END:VEVENT
BEGIN:VEVENT
SEQUENCE:2
TRANSP:OPAQUE
UID:021e14b0022dc88082a22bee7a15474c
DTSTART:20260423T200000
DTSTAMP:20260311T123642Z
SUMMARY:Biffy Clyro  ****SOLD OUT****
DESCRIPTION:
CREATED:20260311T123642Z
URL;VALUE=URI:http://holdmyticket.com/event/457882 

DTEND:20260423T230000
END:VEVENT
BEGIN:VEVENT
SEQUENCE:2
TRANSP:OPAQUE
UID:77abed8f94266d7c640dda3417fe5553
DTSTART:20260424T200000
DTSTAMP:20260224T095257Z
SUMMARY:Mile High Burlesque Festival - Opening Night Showcase
DESCRIPTION:
CREATED:20260224T095257Z
URL;VALUE=URI:http://holdmyticket.com/event/458918 

DTEND:20260424T230000
END:VEVENT
BEGIN:VEVENT
SEQUENCE:2
TRANSP:OPAQUE
UID:c278662b343ceafc0b392a012506d132
DTSTART:20260425T200000
DTSTAMP:20260224T095241Z
SUMMARY:Mile High Burlesque Festival - Saturday Night Competition
DESCRIPTION:
CREATED:20260224T095241Z
URL;VALUE=URI:http://holdmyticket.com/event/458919 

DTEND:20260425T230000
END:VEVENT
BEGIN:VEVENT
SEQUENCE:2
TRANSP:OPAQUE
UID:5c906813b342fbc631de83cbd808fd7f
DTSTART:20260428T190000
DTSTAMP:20260409T183830Z
SUMMARY:Pentagram
DESCRIPTION:
CREATED:20260409T183830Z
URL;VALUE=URI:http://holdmyticket.com/event/458855 

DTEND:20260428T230000
END:VEVENT
BEGIN:VEVENT
SEQUENCE:2
TRANSP:OPAQUE
UID:645c402d2ec6197f6800428455d03ed9
DTSTART:20260430T200000
DTSTAMP:20260210T140401Z
SUMMARY:Kelly Willis
DESCRIPTION:
CREATED:20260210T140401Z
URL;VALUE=URI:http://holdmyticket.com/event/458360 

DTEND:20260430T223000
END:VEVENT
BEGIN:VEVENT
SEQUENCE:2
TRANSP:OPAQUE
UID:734f1542d0178318869b4a94f6812ab2
DTSTART:20260501T200000
DTSTAMP:20260325T184021Z
SUMMARY:Los Mocochetes
DESCRIPTION:
CREATED:20260325T184021Z
URL;VALUE=URI:http://holdmyticket.com/event/461021 

DTEND:20260501T230000
END:VEVENT
BEGIN:VEVENT
SEQUENCE:2
TRANSP:OPAQUE
UID:1efd585ab9ee2fb580721c341438a472
DTSTART:20260502T210000
DTSTAMP:20260409T122732Z
SUMMARY:Federal Nights 
DESCRIPTION:
CREATED:20260409T122732Z
URL;VALUE=URI:http://holdmyticket.com/event/461690 

DTEND:20260503T003000
END:VEVENT
BEGIN:VEVENT
SEQUENCE:2
TRANSP:OPAQUE
UID:04243cea36a679330539ad0fbea52e1f
DTSTART:20260503T123000
DTSTAMP:20260301T163012Z
SUMMARY:School of Rock Golden/Lakewood Presents: Season Showcase Spring 2026
DESCRIPTION:
CREATED:20260301T163012Z
URL;VALUE=URI:http://holdmyticket.com/event/459271 

DTEND:20260503T173000
END:VEVENT
BEGIN:VEVENT
SEQUENCE:2
TRANSP:OPAQUE
UID:c327918282d11f377f21a91d5a1fc19d
DTSTART:20260507T200000
DTSTAMP:20260326T111648Z
SUMMARY:LEFTÖVER CRACK
DESCRIPTION:
CREATED:20260326T111648Z
URL;VALUE=URI:http://holdmyticket.com/event/457617 

DTEND:20260507T230000
END:VEVENT
BEGIN:VEVENT
SEQUENCE:2
TRANSP:OPAQUE
UID:802db867bcf075723c6d1ec0f7ad415f
DTSTART:20260508T200000
DTSTAMP:20260311T094705Z
SUMMARY:Micah And The Mirrors - "Liar's Chair" Record Release Party!
DESCRIPTION:
CREATED:20260311T094705Z
URL;VALUE=URI:http://holdmyticket.com/event/458464 

DTEND:20260508T230000
END:VEVENT
BEGIN:VEVENT
SEQUENCE:2
TRANSP:OPAQUE
UID:60c7b7d813e5313019a6f1fc0e9230f6
DTSTART:20260509T200000
DTSTAMP:20260331T100107Z
SUMMARY:The Black Queen - Performing the Fever Daydream album in its entirety
DESCRIPTION:
CREATED:20260331T100107Z
URL;VALUE=URI:http://holdmyticket.com/event/458492 

DTEND:20260509T230000
END:VEVENT
BEGIN:VEVENT
SEQUENCE:2
TRANSP:OPAQUE
UID:ddbd267f8df0987b5f278e728b8ee012
DTSTART:20260515T203000
DTSTAMP:20260410T111149Z
SUMMARY:Emo Night Brooklyn
DESCRIPTION:
CREATED:20260410T111149Z
URL;VALUE=URI:http://holdmyticket.com/event/461137 

DTEND:20260515T234500
END:VEVENT
BEGIN:VEVENT
SEQUENCE:2
TRANSP:OPAQUE
UID:e252fdd10aea33294d8814de7831fc1b
DTSTART:20260516T193000
DTSTAMP:20260313T100100Z
SUMMARY:Michael Morrow & The Culprits 
DESCRIPTION:
CREATED:20260313T100100Z
URL;VALUE=URI:http://holdmyticket.com/event/460455 

DTEND:20260516T224500
END:VEVENT
BEGIN:VEVENT
SEQUENCE:2
TRANSP:OPAQUE
UID:247bab3151472a9d1df6b457e5c50fc1
DTSTART:20260517T200000
DTSTAMP:20260320T075046Z
SUMMARY:Nogu Svelo! 
DESCRIPTION:
CREATED:20260320T075046Z
URL;VALUE=URI:http://holdmyticket.com/event/460842 

DTEND:20260517T224500
END:VEVENT
BEGIN:VEVENT
SEQUENCE:2
TRANSP:OPAQUE
UID:423886305ebc35c6f90922c4e6a47aea
DTSTART:20260519T200000
DTSTAMP:20260303T091154Z
SUMMARY:Tripping Daisy - Performing "I Am An Elastic Firecracker Album" + Greatest Hits
DESCRIPTION:
CREATED:20260303T091154Z
URL;VALUE=URI:http://holdmyticket.com/event/457983 

DTEND:20260519T230000
END:VEVENT
BEGIN:VEVENT
SEQUENCE:2
TRANSP:OPAQUE
UID:ae36dcb03c0419845a4f18065671e97c
DTSTART:20260522T193000
DTSTAMP:20260330T100044Z
SUMMARY:Cross-Generation Music Celebration! 
DESCRIPTION:
CREATED:20260330T100044Z
URL;VALUE=URI:http://holdmyticket.com/event/461082 

DTEND:20260522T224500
END:VEVENT
BEGIN:VEVENT
SEQUENCE:2
TRANSP:OPAQUE
UID:917c41781aefcaf6ffe76185c21b2061
DTSTART:20260523T200000
DTSTAMP:20260307T094438Z
SUMMARY:Gord Consejos 
DESCRIPTION:
CREATED:20260307T094438Z
URL;VALUE=URI:http://holdmyticket.com/event/459442 

DTEND:20260523T224500
END:VEVENT
BEGIN:VEVENT
SEQUENCE:2
TRANSP:OPAQUE
UID:c362f0dfac4dc9b31e9d234312edd60b
DTSTART:20260524T190000
DTSTAMP:20260317T120024Z
SUMMARY:Dylan85
DESCRIPTION:
CREATED:20260317T120024Z
URL;VALUE=URI:http://holdmyticket.com/event/460691 

DTEND:20260524T224500
END:VEVENT
BEGIN:VEVENT
SEQUENCE:2
TRANSP:OPAQUE
UID:ede3bf9c0d1a2ef8b7f3035f77304e1e
DTSTART:20260526T190000
DTSTAMP:20260209T130822Z
SUMMARY:Powerman 5000
DESCRIPTION:
CREATED:20260209T130822Z
URL;VALUE=URI:http://holdmyticket.com/event/455182 

DTEND:20260526T230000
END:VEVENT
BEGIN:VEVENT
SEQUENCE:2
TRANSP:OPAQUE
UID:da8e66fdee2da56db238b8ae6bcb8ea2
DTSTART:20260529T190000
DTSTAMP:20260311T100029Z
SUMMARY:Tributes to The B-52's, Madonna and Pat Benatar! 
DESCRIPTION:
CREATED:20260311T100029Z
URL;VALUE=URI:http://holdmyticket.com/event/459976 

DTEND:20260529T224500
END:VEVENT
BEGIN:VEVENT
SEQUENCE:2
TRANSP:OPAQUE
UID:8bad796d706c599c4cddb946bbb7749b
DTSTART:20260530T200000
DTSTAMP:20260324T100034Z
SUMMARY:Mr. Majestyk's 8-Track Revival
DESCRIPTION:
CREATED:20260324T100034Z
URL;VALUE=URI:http://holdmyticket.com/event/460892 

DTEND:20260530T224500
END:VEVENT
BEGIN:VEVENT
SEQUENCE:2
TRANSP:OPAQUE
UID:6085dfaeecfc5c55bdb768bbab1be5d7
DTSTART:20260605T190000
DTSTAMP:20260219T122333Z
SUMMARY:Spineshank
DESCRIPTION:
CREATED:20260219T122333Z
URL;VALUE=URI:http://holdmyticket.com/event/458383 

DTEND:20260605T230000
END:VEVENT
BEGIN:VEVENT
SEQUENCE:2
TRANSP:OPAQUE
UID:94d6d2755b7ca933ab9683db87de16c4
DTSTART:20260606T190000
DTSTAMP:20260326T100057Z
SUMMARY:Tributes to The Allman Brothers, Bryan Adams & John Mellencamp 
DESCRIPTION:
CREATED:20260326T100057Z
URL;VALUE=URI:http://holdmyticket.com/event/461008 

DTEND:20260606T224500
END:VEVENT
BEGIN:VEVENT
SEQUENCE:2
TRANSP:OPAQUE
UID:f676abc0abea8760d69f029a1a05e89e
DTSTART:20260612T200000
DTSTAMP:20260413T205524Z
SUMMARY:Freddy Jones Band 
DESCRIPTION:
CREATED:20260413T205524Z
URL;VALUE=URI:http://holdmyticket.com/event/461715 

DTEND:20260612T224500
END:VEVENT
BEGIN:VEVENT
SEQUENCE:2
TRANSP:OPAQUE
UID:ac39aac7e508f631de270d67b42b3514
DTSTART:20260613T190000
DTSTAMP:20260122T111712Z
SUMMARY:Citizen Soldier
DESCRIPTION:
CREATED:20260122T111712Z
URL;VALUE=URI:http://holdmyticket.com/event/457497 

DTEND:20260613T230000
END:VEVENT
BEGIN:VEVENT
SEQUENCE:2
TRANSP:OPAQUE
UID:b221e0c60140f14219248bb1b25be95a
DTSTART:20260614T190000
DTSTAMP:20260313T100100Z
SUMMARY:Josh Garrels 
DESCRIPTION:
CREATED:20260313T100100Z
URL;VALUE=URI:http://holdmyticket.com/event/460495 

DTEND:20260614T220000
END:VEVENT
BEGIN:VEVENT
SEQUENCE:2
TRANSP:OPAQUE
UID:e83472833e7cdd0707b620d401d7cd84
DTSTART:20260620T190000
DTSTAMP:20260326T132207Z
SUMMARY:Boogie Down Broadway
DESCRIPTION:
CREATED:20260326T132207Z
URL;VALUE=URI:http://holdmyticket.com/event/461044 

DTEND:20260620T220000
END:VEVENT
BEGIN:VEVENT
SEQUENCE:2
TRANSP:OPAQUE
UID:f308eaac84f4a4091d567c9425e0da74
DTSTART:20260710T193000
DTSTAMP:20260316T100025Z
SUMMARY:Tributes to Bad Company & Led Zeppelin! 
DESCRIPTION:
CREATED:20260316T100025Z
URL;VALUE=URI:http://holdmyticket.com/event/460662 

DTEND:20260710T224500
END:VEVENT
BEGIN:VEVENT
SEQUENCE:2
TRANSP:OPAQUE
UID:7c0f0b064bb88e30934414b70ac7b5c4
DTSTART:20260714T200000
DTSTAMP:20260123T115919Z
SUMMARY:Back To The Barre
DESCRIPTION:
CREATED:20260123T115919Z
URL;VALUE=URI:http://holdmyticket.com/event/457609 

DTEND:20260714T224500
END:VEVENT
BEGIN:VEVENT
SEQUENCE:2
TRANSP:OPAQUE
UID:a9df55570f03f0f86a5950aff8f31142
DTSTART:20260717T200000
DTSTAMP:20260313T151639Z
SUMMARY:Logan Ryan Band
DESCRIPTION:
CREATED:20260313T151639Z
URL;VALUE=URI:http://holdmyticket.com/event/460493 

DTEND:20260717T224500
END:VEVENT
BEGIN:VEVENT
SEQUENCE:2
TRANSP:OPAQUE
UID:8194bc68329d7ede8cb72a1c79c54a07
DTSTART:20260721T193000
DTSTAMP:20260325T100004Z
SUMMARY:Corrosion Of Conformity
DESCRIPTION:
CREATED:20260325T100004Z
URL;VALUE=URI:http://holdmyticket.com/event/458913 

DTEND:20260721T230000
END:VEVENT
BEGIN:VEVENT
SEQUENCE:2
TRANSP:OPAQUE
UID:16df8aeb90721d51a3fddd510d915278
DTSTART:20260724T190000
DTSTAMP:20260325T110039Z
SUMMARY:Edge Of Paradise & Starkill
DESCRIPTION:
CREATED:20260325T110039Z
URL;VALUE=URI:http://holdmyticket.com/event/460872 

DTEND:20260724T230000
END:VEVENT
BEGIN:VEVENT
SEQUENCE:2
TRANSP:OPAQUE
UID:0d2325c9c0a5ff0b2326e4a1003e95f7
DTSTART:20260801T190000
DTSTAMP:20260402T102739Z
SUMMARY:Leveler
DESCRIPTION:
CREATED:20260402T102739Z
URL;VALUE=URI:http://holdmyticket.com/event/460733 

DTEND:20260801T230000
END:VEVENT
BEGIN:VEVENT
SEQUENCE:2
TRANSP:OPAQUE
UID:4e6ec71c3274263ba6ab2c551b22971d
DTSTART:20260804T190000
DTSTAMP:20260224T110047Z
SUMMARY:The Ex-Faces
DESCRIPTION:
CREATED:20260224T110047Z
URL;VALUE=URI:http://holdmyticket.com/event/458385 

DTEND:20260804T230000
END:VEVENT
BEGIN:VEVENT
SEQUENCE:2
TRANSP:OPAQUE
UID:32cd88c8a75db9fcd70b24d5eea8ae63
DTSTART:20260815T200000
DTSTAMP:20260313T152956Z
SUMMARY:Texas Hippie Coalition
DESCRIPTION:
CREATED:20260313T152956Z
URL;VALUE=URI:http://holdmyticket.com/event/459485 

DTEND:20260815T230000
END:VEVENT
BEGIN:VEVENT
SEQUENCE:2
TRANSP:OPAQUE
UID:6a924b172c8214d20d824627dcb46160
DTSTART:20260822T200000
DTSTAMP:20260414T110021Z
SUMMARY:Bill Callahan
DESCRIPTION:We are proud to introduce our VIP Room, Chapel Perilous!

Chapel Perilous is available as an UPGRADE to your individual ticket to any show, or can be bought out completely for a group as well (email info@thefederaltheatre.com for group reservations) 

Chapel Perilous includes seating for up to 10 people, as well as standing room for an additional 5-7 people.  It is perfectly located to allow an unabstructed view of the stage, a chance to charge your cell phone, all in the midst of gorgeous, selfie worthy, gothic decor!

Your UPGRADE to Chapel Perilous also includes a FREE DRINK!
CREATED:20260414T110021Z
URL;VALUE=URI:http://holdmyticket.com/event/461747 

DTEND:20260822T230000
END:VEVENT
BEGIN:VEVENT
SEQUENCE:2
TRANSP:OPAQUE
UID:8fb615a69bb5e4c47ac3949a7987852c
DTSTART:20260929T190000
DTSTAMP:20260121T120858Z
SUMMARY:Hammerfall
DESCRIPTION:
CREATED:20260121T120858Z
URL;VALUE=URI:http://holdmyticket.com/event/455875 

DTEND:20260929T230000
END:VEVENT
END:VCALENDAR